BEGIN:VCALENDAR
VERSION:2.0
PRODID:-//Brasserie BLACSTAR à Ganges - ECPv6.8.3//NONSGML v1.0//EN
CALSCALE:GREGORIAN
METHOD:PUBLISH
X-WR-CALNAME:Brasserie BLACSTAR à Ganges
X-ORIGINAL-URL:https://blacstar.fr
X-WR-CALDESC:Évènements pour Brasserie BLACSTAR à Ganges
REFRESH-INTERVAL;VALUE=DURATION:PT1H
X-Robots-Tag:noindex
X-PUBLISHED-TTL:PT1H
BEGIN:VTIMEZONE
TZID:Europe/Paris
BEGIN:DAYLIGHT
TZOFFSETFROM:+0100
TZOFFSETTO:+0200
TZNAME:CEST
DTSTART:20250330T010000
END:DAYLIGHT
BEGIN:STANDARD
TZOFFSETFROM:+0200
TZOFFSETTO:+0100
TZNAME:CET
DTSTART:20251026T010000
END:STANDARD
END:VTIMEZONE
BEGIN:VEVENT
DTSTART;TZID=Europe/Paris:20250522T080000
DTEND;TZID=Europe/Paris:20250522T170000
DTSTAMP:20260425T133931
CREATED:20250522T125229Z
LAST-MODIFIED:20250522T125619Z
UID:779-1747900800-1747933200@blacstar.fr
SUMMARY:Prochainement ouverture de notre bar (taproom) à la brasserie
DESCRIPTION:Dégustation de nos bières à la pression. Petite restauration. Ambiance musicale \nInfos sur Facebook et Instagram
URL:https://blacstar.fr/event/prochainement-ouverture-de-notre-bar-taproom-a-la-brasserie/
END:VEVENT
END:VCALENDAR